Package: ClusterFoldSimilarity Version: 1.0.0 Command: /home/biocbuild/bbs-3.19-bioc/R/bin/R CMD build --keep-empty-dirs --no-resave-data ClusterFoldSimilarity StartedAt: 2024-10-16 17:49:39 -0400 (Wed, 16 Oct 2024) EndedAt: 2024-10-16 17:57:53 -0400 (Wed, 16 Oct 2024) EllapsedTime: 493.9 seconds RetCode: 0 Status: OK PackageFile: ClusterFoldSimilarity_1.0.0.tar.gz PackageFileSize: 1.664 MiB