Package: ClusterFoldSimilarity Version: 1.0.0 Command: /Library/Frameworks/R.framework/Resources/bin/R CMD check --install=check:ClusterFoldSimilarity.install-out.txt --library=/Library/Frameworks/R.framework/Resources/library --no-vignettes --timings ClusterFoldSimilarity_1.0.0.tar.gz StartedAt: 2024-06-09 19:28:29 -0400 (Sun, 09 Jun 2024) EndedAt: 2024-06-09 19:32:56 -0400 (Sun, 09 Jun 2024) EllapsedTime: 267.1 seconds RetCode: 0 Status: OK CheckDir: ClusterFoldSimilarity.Rcheck Warnings: 0