Package: ClusterFoldSimilarity Version: 1.0.0 Command: /Library/Frameworks/R.framework/Resources/bin/R CMD build --keep-empty-dirs --no-resave-data ClusterFoldSimilarity StartedAt: 2024-06-09 16:13:14 -0400 (Sun, 09 Jun 2024) EndedAt: 2024-06-09 16:21:36 -0400 (Sun, 09 Jun 2024) EllapsedTime: 502.7 seconds RetCode: 0 Status: OK PackageFile: ClusterFoldSimilarity_1.0.0.tar.gz PackageFileSize: 1.93 MiB