Package: ClusterFoldSimilarity Version: 1.0.0 Command: rm -rf ClusterFoldSimilarity.buildbin-libdir && mkdir ClusterFoldSimilarity.buildbin-libdir && /Users/biocbuild/BBS/utils/build-universal.sh ClusterFoldSimilarity_1.0.0.tar.gz /Library/Frameworks/R.framework/Resources/bin/R ClusterFoldSimilarity.buildbin-libdir StartedAt: 2024-06-10 00:11:52 -0400 (Mon, 10 Jun 2024) EndedAt: 2024-06-10 00:12:42 -0400 (Mon, 10 Jun 2024) EllapsedTime: 50.9 seconds RetCode: 0 Status: OK PackageFile: ClusterFoldSimilarity_1.0.0.tgz PackageFileSize: 1.348 MiB