Package: ClusterFoldSimilarity Version: 1.0.0 Command: /home/biocbuild/R/R-beta-2024-04-15_r86425/bin/R CMD build --keep-empty-dirs --no-resave-data ClusterFoldSimilarity StartedAt: 2024-05-08 23:22:42 -0000 (Wed, 08 May 2024) EndedAt: 2024-05-08 23:38:29 -0000 (Wed, 08 May 2024) EllapsedTime: 947.3 seconds RetCode: 0 Status: OK PackageFile: ClusterFoldSimilarity_1.0.0.tar.gz PackageFileSize: 1.325 MiB