Package: ClustIRR Version: 1.2.0 Command: /Library/Frameworks/R.framework/Resources/bin/R CMD build --keep-empty-dirs --no-resave-data ClustIRR StartedAt: 2024-10-16 18:03:07 -0400 (Wed, 16 Oct 2024) EndedAt: 2024-10-16 18:04:34 -0400 (Wed, 16 Oct 2024) EllapsedTime: 87.0 seconds RetCode: 0 Status: OK PackageFile: ClustIRR_1.2.0.tar.gz PackageFileSize: 1013 KiB