Package: ClustIRR Version: 1.2.0 Command: rm -rf ClustIRR.buildbin-libdir && mkdir ClustIRR.buildbin-libdir && /Users/biocbuild/BBS/utils/build-universal.sh ClustIRR_1.2.0.tar.gz /Library/Frameworks/R.framework/Resources/bin/R ClustIRR.buildbin-libdir StartedAt: 2024-10-17 15:52:38 -0400 (Thu, 17 Oct 2024) EndedAt: 2024-10-17 15:53:09 -0400 (Thu, 17 Oct 2024) EllapsedTime: 31.8 seconds RetCode: 0 Status: OK PackageFile: ClustIRR_1.2.0.tgz PackageFileSize: 1.077 MiB