Package: ClustAll Version: 1.0.0 Command: /Library/Frameworks/R.framework/Resources/bin/R CMD build --keep-empty-dirs --no-resave-data ClustAll StartedAt: 2024-06-09 16:13:02 -0400 (Sun, 09 Jun 2024) EndedAt: 2024-06-09 16:17:43 -0400 (Sun, 09 Jun 2024) EllapsedTime: 280.9 seconds RetCode: 0 Status: OK PackageFile: ClustAll_1.0.0.tar.gz PackageFileSize: 2.907 MiB