Package: ClustAll Version: 1.0.2 Command: /Library/Frameworks/R.framework/Resources/bin/R CMD build --keep-empty-dirs --no-resave-data ClustAll StartedAt: 2024-10-16 21:43:23 -0400 (Wed, 16 Oct 2024) EndedAt: 2024-10-16 21:48:41 -0400 (Wed, 16 Oct 2024) EllapsedTime: 318.0 seconds RetCode: 0 Status: OK PackageFile: ClustAll_1.0.2.tar.gz PackageFileSize: 2.948 MiB