Package: ClustAll Version: 1.0.2 Command: rm -rf ClustAll.buildbin-libdir && mkdir ClustAll.buildbin-libdir && /Users/biocbuild/BBS/utils/build-universal.sh ClustAll_1.0.2.tar.gz /Library/Frameworks/R.framework/Resources/bin/R ClustAll.buildbin-libdir StartedAt: 2024-10-18 17:49:14 -0400 (Fri, 18 Oct 2024) EndedAt: 2024-10-18 17:49:50 -0400 (Fri, 18 Oct 2024) EllapsedTime: 35.7 seconds RetCode: 0 Status: OK PackageFile: ClustAll_1.0.2.tgz PackageFileSize: 2.273 MiB