Package: CluMSID Version: 1.20.0 Command: /home/biocbuild/bbs-3.19-bioc/R/bin/R CMD build --keep-empty-dirs --no-resave-data CluMSID StartedAt: 2024-10-16 17:49:27 -0400 (Wed, 16 Oct 2024) EndedAt: 2024-10-16 17:54:47 -0400 (Wed, 16 Oct 2024) EllapsedTime: 319.6 seconds RetCode: 0 Status: OK PackageFile: CluMSID_1.20.0.tar.gz PackageFileSize: 4.034 MiB