Package: CluMSID Version: 1.20.0 Command: /Library/Frameworks/R.framework/Resources/bin/R CMD INSTALL CluMSID StartedAt: 2024-10-16 17:36:18 -0400 (Wed, 16 Oct 2024) EndedAt: 2024-10-16 17:37:07 -0400 (Wed, 16 Oct 2024) EllapsedTime: 49.3 seconds RetCode: 0 Status: OK