Package: Clomial Version: 1.40.0 Command: rm -rf Clomial.buildbin-libdir && mkdir Clomial.buildbin-libdir && E:\biocbuild\bbs-3.19-bioc\R\bin\R.exe CMD INSTALL --build --library=Clomial.buildbin-libdir Clomial_1.40.0.tar.gz StartedAt: 2024-10-17 07:33:07 -0400 (Thu, 17 Oct 2024) EndedAt: 2024-10-17 07:33:15 -0400 (Thu, 17 Oct 2024) EllapsedTime: 8.0 seconds RetCode: 0 Status: OK PackageFile: Clomial_1.40.0.zip PackageFileSize: 1.421 MiB