Package: ClassifyR Version: 3.8.5 Command: /home/biocbuild/bbs-3.19-bioc/R/bin/R CMD check --install=check:ClassifyR.install-out.txt --library=/home/biocbuild/bbs-3.19-bioc/R/site-library --timings ClassifyR_3.8.5.tar.gz StartedAt: 2024-10-16 22:47:33 -0400 (Wed, 16 Oct 2024) EndedAt: 2024-10-16 23:04:53 -0400 (Wed, 16 Oct 2024) EllapsedTime: 1040.2 seconds RetCode: 0 Status: OK CheckDir: ClassifyR.Rcheck Warnings: 0