Package: ClassifyR Version: 3.8.2 Command: /Library/Frameworks/R.framework/Resources/bin/R CMD build --keep-empty-dirs --no-resave-data ClassifyR StartedAt: 2024-06-09 16:11:50 -0400 (Sun, 09 Jun 2024) EndedAt: 2024-06-09 16:19:29 -0400 (Sun, 09 Jun 2024) EllapsedTime: 459.3 seconds RetCode: 0 Status: OK PackageFile: ClassifyR_3.8.2.tar.gz PackageFileSize: 2.044 MiB