Package: ClassifyR Version: 3.8.0 Command: /home/biocbuild/R/R-beta-2024-04-15_r86425/bin/R CMD INSTALL ClassifyR StartedAt: 2024-05-08 21:04:57 -0000 (Wed, 08 May 2024) EndedAt: 2024-05-08 21:05:44 -0000 (Wed, 08 May 2024) EllapsedTime: 46.9 seconds RetCode: 0 Status: OK