Package: ClassifyR Version: 3.8.0 Command: /home/biocbuild/R/R-beta-2024-04-15_r86425/bin/R CMD check --install=check:ClassifyR.install-out.txt --library=/home/biocbuild/R/R-beta-2024-04-15_r86425/site-library --no-vignettes --timings ClassifyR_3.8.0.tar.gz StartedAt: 2024-05-09 05:52:26 -0000 (Thu, 09 May 2024) EndedAt: 2024-05-09 06:20:08 -0000 (Thu, 09 May 2024) EllapsedTime: 1661.9 seconds RetCode: 0 Status: WARNINGS CheckDir: ClassifyR.Rcheck Warnings: 1