Package: ClassifyR Version: 3.8.5 Command: /Library/Frameworks/R.framework/Resources/bin/R CMD build --keep-empty-dirs --no-resave-data ClassifyR StartedAt: 2024-10-16 21:39:47 -0400 (Wed, 16 Oct 2024) EndedAt: 2024-10-16 21:49:18 -0400 (Wed, 16 Oct 2024) EllapsedTime: 571.2 seconds RetCode: 0 Status: OK PackageFile: ClassifyR_3.8.5.tar.gz PackageFileSize: 2.044 MiB