Package: CiteFuse Version: 1.16.0 Command: E:\biocbuild\bbs-3.19-bioc\R\bin\R.exe CMD INSTALL CiteFuse StartedAt: 2024-10-16 17:13:38 -0400 (Wed, 16 Oct 2024) EndedAt: 2024-10-16 17:14:42 -0400 (Wed, 16 Oct 2024) EllapsedTime: 64.1 seconds RetCode: 0 Status: OK