Package: CiteFuse Version: 1.16.0 Command: chmod a+r CiteFuse -R && F:\biocbuild\bbs-3.19-bioc\R\bin\R.exe CMD build --keep-empty-dirs --no-resave-data CiteFuse StartedAt: 2024-06-26 17:49:41 -0400 (Wed, 26 Jun 2024) EndedAt: 2024-06-26 17:52:50 -0400 (Wed, 26 Jun 2024) EllapsedTime: 189.2 seconds RetCode: 0 Status: OK PackageFile: CiteFuse_1.16.0.tar.gz PackageFileSize: 2.385 MiB