Package: CiteFuse Version: 1.16.0 Command: rm -rf CiteFuse.buildbin-libdir && mkdir CiteFuse.buildbin-libdir && F:\biocbuild\bbs-3.19-bioc\R\bin\R.exe CMD INSTALL --build --library=CiteFuse.buildbin-libdir CiteFuse_1.16.0.tar.gz StartedAt: 2024-06-27 07:59:56 -0400 (Thu, 27 Jun 2024) EndedAt: 2024-06-27 08:01:24 -0400 (Thu, 27 Jun 2024) EllapsedTime: 87.2 seconds RetCode: 0 Status: OK PackageFile: CiteFuse_1.16.0.zip PackageFileSize: 2.907 MiB