Package: CiteFuse Version: 1.16.0 Command: /home/biocbuild/bbs-3.19-bioc/R/bin/R CMD check --install=check:CiteFuse.install-out.txt --library=/home/biocbuild/bbs-3.19-bioc/R/site-library --timings CiteFuse_1.16.0.tar.gz StartedAt: 2024-10-16 22:47:32 -0400 (Wed, 16 Oct 2024) EndedAt: 2024-10-16 22:54:09 -0400 (Wed, 16 Oct 2024) EllapsedTime: 397.8 seconds RetCode: 0 Status: OK CheckDir: CiteFuse.Rcheck Warnings: 0