Package: CiteFuse Version: 1.16.0 Command: /Library/Frameworks/R.framework/Resources/bin/R CMD INSTALL CiteFuse StartedAt: 2024-06-09 15:40:21 -0400 (Sun, 09 Jun 2024) EndedAt: 2024-06-09 15:41:24 -0400 (Sun, 09 Jun 2024) EllapsedTime: 62.7 seconds RetCode: 0 Status: OK