Package: CiteFuse Version: 1.16.0 Command: rm -rf CiteFuse.buildbin-libdir && mkdir CiteFuse.buildbin-libdir && /Users/biocbuild/BBS/utils/build-universal.sh CiteFuse_1.16.0.tar.gz /Library/Frameworks/R.framework/Resources/bin/R CiteFuse.buildbin-libdir StartedAt: 2024-06-10 00:11:32 -0400 (Mon, 10 Jun 2024) EndedAt: 2024-06-10 00:12:39 -0400 (Mon, 10 Jun 2024) EllapsedTime: 66.6 seconds RetCode: 0 Status: OK PackageFile: CiteFuse_1.16.0.tgz PackageFileSize: 3.573 MiB