Package: CiteFuse Version: 1.16.0 Command: /home/biocbuild/R/R-beta-2024-04-15_r86425/bin/R CMD check --install=check:CiteFuse.install-out.txt --library=/home/biocbuild/R/R-beta-2024-04-15_r86425/site-library --no-vignettes --timings CiteFuse_1.16.0.tar.gz StartedAt: 2024-05-09 05:52:05 -0000 (Thu, 09 May 2024) EndedAt: 2024-05-09 05:58:11 -0000 (Thu, 09 May 2024) EllapsedTime: 366.7 seconds RetCode: 0 Status: OK CheckDir: CiteFuse.Rcheck Warnings: 0