Package: CiteFuse Version: 1.16.0 Command: /home/biocbuild/R/R-beta-2024-04-15_r86425/bin/R CMD build --keep-empty-dirs --no-resave-data CiteFuse StartedAt: 2024-05-08 23:19:14 -0000 (Wed, 08 May 2024) EndedAt: 2024-05-08 23:23:53 -0000 (Wed, 08 May 2024) EllapsedTime: 279.7 seconds RetCode: 0 Status: OK PackageFile: CiteFuse_1.16.0.tar.gz PackageFileSize: 2.652 MiB