Package: CiteFuse Version: 1.16.0 Command: /Library/Frameworks/R.framework/Resources/bin/R CMD check --install=check:CiteFuse.install-out.txt --library=/Library/Frameworks/R.framework/Resources/library --no-vignettes --timings CiteFuse_1.16.0.tar.gz StartedAt: 2024-06-10 10:39:28 -0400 (Mon, 10 Jun 2024) EndedAt: 2024-06-10 10:48:29 -0400 (Mon, 10 Jun 2024) EllapsedTime: 540.5 seconds RetCode: 0 Status: OK CheckDir: CiteFuse.Rcheck Warnings: 0