Package: CircSeqAlignTk Version: 1.6.0 Command: chmod a+r CircSeqAlignTk -R && E:\biocbuild\bbs-3.19-bioc\R\bin\R.exe CMD build --keep-empty-dirs --no-resave-data CircSeqAlignTk StartedAt: 2024-10-16 18:13:25 -0400 (Wed, 16 Oct 2024) EndedAt: 2024-10-16 18:13:27 -0400 (Wed, 16 Oct 2024) EllapsedTime: 2.0 seconds RetCode: 1 Status: ERROR PackageFile: None PackageFileSize: NA