Package: CircSeqAlignTk Version: 1.6.0 Command: F:\biocbuild\bbs-3.19-bioc\R\bin\R.exe CMD INSTALL CircSeqAlignTk StartedAt: 2024-06-26 16:19:46 -0400 (Wed, 26 Jun 2024) EndedAt: 2024-06-26 16:19:49 -0400 (Wed, 26 Jun 2024) EllapsedTime: 2.9 seconds RetCode: 1 Status: ERROR