Package: CircSeqAlignTk Version: 1.5.1 Command: F:\biocbuild\bbs-3.19-bioc\R\bin\R.exe CMD check --no-multiarch --install=check:CircSeqAlignTk.install-out.txt --library=F:\biocbuild\bbs-3.19-bioc\R\library --no-vignettes --timings CircSeqAlignTk_1.5.1.tar.gz StartedAt: 2024-04-16 00:14:08 -0400 (Tue, 16 Apr 2024) EndedAt: 2024-04-16 00:20:28 -0400 (Tue, 16 Apr 2024) EllapsedTime: 379.6 seconds RetCode: 1 Status: ERROR CheckDir: CircSeqAlignTk.Rcheck Warnings: NA