Package: CircSeqAlignTk Version: 1.6.0 Command: /Library/Frameworks/R.framework/Resources/bin/R CMD build --keep-empty-dirs --no-resave-data CircSeqAlignTk StartedAt: 2024-10-16 17:58:01 -0400 (Wed, 16 Oct 2024) EndedAt: 2024-10-16 18:04:16 -0400 (Wed, 16 Oct 2024) EllapsedTime: 375.1 seconds RetCode: 0 Status: OK PackageFile: CircSeqAlignTk_1.6.0.tar.gz PackageFileSize: 2.05 MiB