Package: CircSeqAlignTk Version: 1.6.0 Command: /Library/Frameworks/R.framework/Resources/bin/R CMD check --install=check:CircSeqAlignTk.install-out.txt --library=/Library/Frameworks/R.framework/Resources/library --no-vignettes --timings CircSeqAlignTk_1.6.0.tar.gz StartedAt: 2024-06-09 19:25:42 -0400 (Sun, 09 Jun 2024) EndedAt: 2024-06-09 19:32:02 -0400 (Sun, 09 Jun 2024) EllapsedTime: 380.0 seconds RetCode: 0 Status: OK CheckDir: CircSeqAlignTk.Rcheck Warnings: 0