Package: CircSeqAlignTk Version: 1.6.0 Command: /home/biocbuild/R/R-beta-2024-04-15_r86425/bin/R CMD INSTALL CircSeqAlignTk StartedAt: 2024-05-08 20:37:33 -0000 (Wed, 08 May 2024) EndedAt: 2024-05-08 20:38:34 -0000 (Wed, 08 May 2024) EllapsedTime: 60.3 seconds RetCode: 0 Status: OK