Package: ChromSCape Version: 1.14.0 Command: E:\biocbuild\bbs-3.19-bioc\R\bin\R.exe CMD INSTALL ChromSCape StartedAt: 2024-10-16 17:23:26 -0400 (Wed, 16 Oct 2024) EndedAt: 2024-10-16 17:24:53 -0400 (Wed, 16 Oct 2024) EllapsedTime: 87.4 seconds RetCode: 0 Status: OK