Package: ChromSCape Version: 1.14.0 Command: chmod a+r ChromSCape -R && F:\biocbuild\bbs-3.19-bioc\R\bin\R.exe CMD build --keep-empty-dirs --no-resave-data ChromSCape StartedAt: 2024-06-26 17:48:11 -0400 (Wed, 26 Jun 2024) EndedAt: 2024-06-26 17:49:55 -0400 (Wed, 26 Jun 2024) EllapsedTime: 104.0 seconds RetCode: 0 Status: OK PackageFile: ChromSCape_1.14.0.tar.gz PackageFileSize: 5.302 MiB