Package: ChromSCape Version: 1.14.0 Command: /home/biocbuild/bbs-3.19-bioc/R/bin/R CMD build --keep-empty-dirs --no-resave-data ChromSCape StartedAt: 2024-10-16 17:44:36 -0400 (Wed, 16 Oct 2024) EndedAt: 2024-10-16 17:45:42 -0400 (Wed, 16 Oct 2024) EllapsedTime: 66.1 seconds RetCode: 0 Status: OK PackageFile: ChromSCape_1.14.0.tar.gz PackageFileSize: 5.303 MiB