Package: ChromSCape Version: 1.14.0 Command: /Library/Frameworks/R.framework/Resources/bin/R CMD INSTALL ChromSCape StartedAt: 2024-10-16 16:52:35 -0400 (Wed, 16 Oct 2024) EndedAt: 2024-10-16 16:54:24 -0400 (Wed, 16 Oct 2024) EllapsedTime: 108.4 seconds RetCode: 0 Status: OK