Package: ChromSCape Version: 1.14.0 Command: rm -rf ChromSCape.buildbin-libdir && mkdir ChromSCape.buildbin-libdir && /Users/biocbuild/BBS/utils/build-universal.sh ChromSCape_1.14.0.tar.gz /Library/Frameworks/R.framework/Resources/bin/R ChromSCape.buildbin-libdir StartedAt: 2024-06-10 00:11:13 -0400 (Mon, 10 Jun 2024) EndedAt: 2024-06-10 00:12:31 -0400 (Mon, 10 Jun 2024) EllapsedTime: 77.5 seconds RetCode: 0 Status: OK PackageFile: ChromSCape_1.14.0.tgz PackageFileSize: 5.795 MiB