Package: ChromSCape Version: 1.14.0 Command: /home/biocbuild/R/R-beta-2024-04-15_r86425/bin/R CMD build --keep-empty-dirs --no-resave-data ChromSCape StartedAt: 2024-05-08 23:17:32 -0000 (Wed, 08 May 2024) EndedAt: 2024-05-08 23:19:14 -0000 (Wed, 08 May 2024) EllapsedTime: 101.1 seconds RetCode: 0 Status: OK PackageFile: ChromSCape_1.14.0.tar.gz PackageFileSize: 5.326 MiB