Package: ChromSCape Version: 1.14.0 Command: /Library/Frameworks/R.framework/Resources/bin/R CMD INSTALL ChromSCape StartedAt: 2024-10-16 19:01:08 -0400 (Wed, 16 Oct 2024) EndedAt: 2024-10-16 19:02:10 -0400 (Wed, 16 Oct 2024) EllapsedTime: 62.0 seconds RetCode: 0 Status: OK