Package: ChromHeatMap Version: 1.58.0 Command: chmod a+r ChromHeatMap -R && E:\biocbuild\bbs-3.19-bioc\R\bin\R.exe CMD build --keep-empty-dirs --no-resave-data ChromHeatMap StartedAt: 2024-10-16 18:11:46 -0400 (Wed, 16 Oct 2024) EndedAt: 2024-10-16 18:12:47 -0400 (Wed, 16 Oct 2024) EllapsedTime: 60.9 seconds RetCode: 0 Status: OK PackageFile: ChromHeatMap_1.58.0.tar.gz PackageFileSize: 217.6 KiB