Package: Chicago Version: 1.32.0 Command: E:\biocbuild\bbs-3.19-bioc\R\bin\R.exe CMD INSTALL Chicago StartedAt: 2024-10-16 16:43:44 -0400 (Wed, 16 Oct 2024) EndedAt: 2024-10-16 16:44:04 -0400 (Wed, 16 Oct 2024) EllapsedTime: 19.2 seconds RetCode: 0 Status: OK