Package: Chicago Version: 1.32.0 Command: rm -rf Chicago.buildbin-libdir && mkdir Chicago.buildbin-libdir && E:\biocbuild\bbs-3.19-bioc\R\bin\R.exe CMD INSTALL --build --library=Chicago.buildbin-libdir Chicago_1.32.0.tar.gz StartedAt: 2024-10-17 07:31:23 -0400 (Thu, 17 Oct 2024) EndedAt: 2024-10-17 07:31:50 -0400 (Thu, 17 Oct 2024) EllapsedTime: 26.8 seconds RetCode: 0 Status: OK PackageFile: Chicago_1.32.0.zip PackageFileSize: 1.023 MiB