Package: Chicago Version: 1.32.0 Command: rm -rf Chicago.buildbin-libdir && mkdir Chicago.buildbin-libdir && /Users/biocbuild/BBS/utils/build-universal.sh Chicago_1.32.0.tar.gz /Library/Frameworks/R.framework/Resources/bin/R Chicago.buildbin-libdir StartedAt: 2024-10-17 15:50:02 -0400 (Thu, 17 Oct 2024) EndedAt: 2024-10-17 15:50:23 -0400 (Thu, 17 Oct 2024) EllapsedTime: 20.9 seconds RetCode: 0 Status: OK PackageFile: Chicago_1.32.0.tgz PackageFileSize: 1.457 MiB