Package: Chicago Version: 1.32.0 Command: /home/biocbuild/R/R-beta-2024-04-15_r86425/bin/R CMD build --keep-empty-dirs --no-resave-data Chicago StartedAt: 2024-05-08 23:13:54 -0000 (Wed, 08 May 2024) EndedAt: 2024-05-08 23:15:59 -0000 (Wed, 08 May 2024) EllapsedTime: 125.2 seconds RetCode: 0 Status: OK PackageFile: Chicago_1.32.0.tar.gz PackageFileSize: 946 KiB