Package: Chicago Version: 1.32.0 Command: /Library/Frameworks/R.framework/Resources/bin/R CMD INSTALL Chicago StartedAt: 2024-10-16 17:18:05 -0400 (Wed, 16 Oct 2024) EndedAt: 2024-10-16 17:18:14 -0400 (Wed, 16 Oct 2024) EllapsedTime: 8.3 seconds RetCode: 0 Status: OK