Package: Chicago Version: 1.32.0 Command: /Library/Frameworks/R.framework/Resources/bin/R CMD build --keep-empty-dirs --no-resave-data Chicago StartedAt: 2024-10-16 21:16:50 -0400 (Wed, 16 Oct 2024) EndedAt: 2024-10-16 21:18:32 -0400 (Wed, 16 Oct 2024) EllapsedTime: 102.4 seconds RetCode: 0 Status: OK PackageFile: Chicago_1.32.0.tar.gz PackageFileSize: 1.21 MiB