Package: ChemmineR Version: 3.56.0 Command: E:\biocbuild\bbs-3.19-bioc\R\bin\R.exe CMD INSTALL ChemmineR StartedAt: 2024-10-16 17:12:54 -0400 (Wed, 16 Oct 2024) EndedAt: 2024-10-16 17:14:27 -0400 (Wed, 16 Oct 2024) EllapsedTime: 92.6 seconds RetCode: 0 Status: OK