Package: ChemmineR Version: 3.56.0 Command: rm -rf ChemmineR.buildbin-libdir && mkdir ChemmineR.buildbin-libdir && F:\biocbuild\bbs-3.19-bioc\R\bin\R.exe CMD INSTALL --build --library=ChemmineR.buildbin-libdir ChemmineR_3.56.0.tar.gz StartedAt: 2024-06-27 07:58:42 -0400 (Thu, 27 Jun 2024) EndedAt: 2024-06-27 07:59:42 -0400 (Thu, 27 Jun 2024) EllapsedTime: 60.3 seconds RetCode: 0 Status: OK PackageFile: ChemmineR_3.56.0.zip PackageFileSize: 2.175 MiB