Package: ChemmineOB Version: 1.42.0 Command: E:\biocbuild\bbs-3.19-bioc\R\bin\R.exe CMD check --no-multiarch --install=check:ChemmineOB.install-out.txt --library=E:\biocbuild\bbs-3.19-bioc\R\library --no-vignettes --timings ChemmineOB_1.42.0.tar.gz StartedAt: 2024-10-16 23:54:32 -0400 (Wed, 16 Oct 2024) EndedAt: 2024-10-16 23:57:29 -0400 (Wed, 16 Oct 2024) EllapsedTime: 177.1 seconds RetCode: 0 Status: WARNINGS CheckDir: ChemmineOB.Rcheck Warnings: 3